BEGIN:VCALENDAR
VERSION:2.0
PRODID:-//Tóvárosi Általános Iskola - ECPv6.14.2//NONSGML v1.0//EN
CALSCALE:GREGORIAN
METHOD:PUBLISH
X-ORIGINAL-URL:https://tovarosi.hu
X-WR-CALDESC:Events for Tóvárosi Általános Iskola
REFRESH-INTERVAL;VALUE=DURATION:PT1H
X-Robots-Tag:noindex
X-PUBLISHED-TTL:PT1H
BEGIN:VTIMEZONE
TZID:UTC
BEGIN:STANDARD
TZOFFSETFROM:+0000
TZOFFSETTO:+0000
TZNAME:UTC
DTSTART:20250101T000000
END:STANDARD
END:VTIMEZONE
BEGIN:VEVENT
DTSTART;VALUE=DATE:20251117
DTEND;VALUE=DATE:20251118
DTSTAMP:20260423T151306
CREATED:20250912T100511Z
LAST-MODIFIED:20250912T100511Z
UID:2365-1763337600-1763423999@tovarosi.hu
SUMMARY:Pályaorientációs nap
DESCRIPTION:
URL:https://tovarosi.hu/event/palyaorientacios-nap-2/
CATEGORIES:Best,top
END:VEVENT
BEGIN:VEVENT
DTSTART;TZID=UTC:20251117T160000
DTEND;TZID=UTC:20251117T170000
DTSTAMP:20260423T151306
CREATED:20250912T101105Z
LAST-MODIFIED:20250912T101105Z
UID:2377-1763395200-1763398800@tovarosi.hu
SUMMARY:Fogadóóra alsó-felső
DESCRIPTION:
URL:https://tovarosi.hu/event/fogadoora-also-felso/
CATEGORIES:Best,top
END:VEVENT
BEGIN:VEVENT
DTSTART;TZID=UTC:20251117T170000
DTEND;TZID=UTC:20251117T180000
DTSTAMP:20260423T151306
CREATED:20250912T100620Z
LAST-MODIFIED:20250912T100620Z
UID:2367-1763398800-1763402400@tovarosi.hu
SUMMARY:Pályaválasztási szülői értekezlet
DESCRIPTION:
URL:https://tovarosi.hu/event/palyavalasztasi-szuloi-ertekezlet/
CATEGORIES:Best,top
END:VEVENT
END:VCALENDAR