BEGIN:VCALENDAR
VERSION:2.0
PRODID:-//Tóvárosi Általános Iskola - ECPv6.14.2//NONSGML v1.0//EN
CALSCALE:GREGORIAN
METHOD:PUBLISH
X-ORIGINAL-URL:https://tovarosi.hu
X-WR-CALDESC:Events for Tóvárosi Általános Iskola
REFRESH-INTERVAL;VALUE=DURATION:PT1H
X-Robots-Tag:noindex
X-PUBLISHED-TTL:PT1H
BEGIN:VTIMEZONE
TZID:UTC
BEGIN:STANDARD
TZOFFSETFROM:+0000
TZOFFSETTO:+0000
TZNAME:UTC
DTSTART:20250101T000000
END:STANDARD
END:VTIMEZONE
BEGIN:VEVENT
DTSTART;VALUE=DATE:20251107
DTEND;VALUE=DATE:20251108
DTSTAMP:20260423T181820
CREATED:20250912T102446Z
LAST-MODIFIED:20251017T052847Z
UID:2409-1762473600-1762559999@tovarosi.hu
SUMMARY:Projekt felsősöknek – Halloween
DESCRIPTION:
URL:https://tovarosi.hu/event/projekt-felsosoknek-halloween/
CATEGORIES:Best,top
END:VEVENT
BEGIN:VEVENT
DTSTART;TZID=UTC:20251111T080000
DTEND;TZID=UTC:20251111T100000
DTSTAMP:20260423T181820
CREATED:20250912T101758Z
LAST-MODIFIED:20250912T101758Z
UID:2393-1762848000-1762855200@tovarosi.hu
SUMMARY:Nyílt tanítási nap (első két óra)
DESCRIPTION:
URL:https://tovarosi.hu/event/nyilt-tanitasi-nap-elso-ket-ora/
CATEGORIES:Best,top
END:VEVENT
BEGIN:VEVENT
DTSTART;TZID=UTC:20251112T080000
DTEND;TZID=UTC:20251112T100000
DTSTAMP:20260423T181820
CREATED:20250912T101836Z
LAST-MODIFIED:20250912T101836Z
UID:2395-1762934400-1762941600@tovarosi.hu
SUMMARY:Nyílt tanítási nap (első két óra)
DESCRIPTION:
URL:https://tovarosi.hu/event/nyilt-tanitasi-nap-elso-ket-ora-2/
CATEGORIES:Best,top
END:VEVENT
BEGIN:VEVENT
DTSTART;VALUE=DATE:20251113
DTEND;VALUE=DATE:20251114
DTSTAMP:20260423T181820
CREATED:20250912T102538Z
LAST-MODIFIED:20250912T102538Z
UID:2411-1762992000-1763078399@tovarosi.hu
SUMMARY:Játékos idegennyelvi vetélkedő
DESCRIPTION:
URL:https://tovarosi.hu/event/jatekos-idegennyelvi-vetelkedo/
CATEGORIES:Best,top
END:VEVENT
BEGIN:VEVENT
DTSTART;VALUE=DATE:20251117
DTEND;VALUE=DATE:20251118
DTSTAMP:20260423T181820
CREATED:20250912T100511Z
LAST-MODIFIED:20250912T100511Z
UID:2365-1763337600-1763423999@tovarosi.hu
SUMMARY:Pályaorientációs nap
DESCRIPTION:
URL:https://tovarosi.hu/event/palyaorientacios-nap-2/
CATEGORIES:Best,top
END:VEVENT
BEGIN:VEVENT
DTSTART;TZID=UTC:20251117T160000
DTEND;TZID=UTC:20251117T170000
DTSTAMP:20260423T181820
CREATED:20250912T101105Z
LAST-MODIFIED:20250912T101105Z
UID:2377-1763395200-1763398800@tovarosi.hu
SUMMARY:Fogadóóra alsó-felső
DESCRIPTION:
URL:https://tovarosi.hu/event/fogadoora-also-felso/
CATEGORIES:Best,top
END:VEVENT
BEGIN:VEVENT
DTSTART;TZID=UTC:20251117T170000
DTEND;TZID=UTC:20251117T180000
DTSTAMP:20260423T181820
CREATED:20250912T100620Z
LAST-MODIFIED:20250912T100620Z
UID:2367-1763398800-1763402400@tovarosi.hu
SUMMARY:Pályaválasztási szülői értekezlet
DESCRIPTION:
URL:https://tovarosi.hu/event/palyavalasztasi-szuloi-ertekezlet/
CATEGORIES:Best,top
END:VEVENT
BEGIN:VEVENT
DTSTART;VALUE=DATE:20251220
DTEND;VALUE=DATE:20260105
DTSTAMP:20260423T181820
CREATED:20250912T100210Z
LAST-MODIFIED:20250912T100210Z
UID:2361-1766188800-1767571199@tovarosi.hu
SUMMARY:Téli szünet
DESCRIPTION:
URL:https://tovarosi.hu/event/teli-szunet-2/
CATEGORIES:Best,top
END:VEVENT
BEGIN:VEVENT
DTSTART;TZID=UTC:20260124T100000
DTEND;TZID=UTC:20260124T120000
DTSTAMP:20260423T181820
CREATED:20250912T102104Z
LAST-MODIFIED:20250912T102104Z
UID:2399-1769248800-1769256000@tovarosi.hu
SUMMARY:Nyolcadik évfolyamosok írásbeli felvételije
DESCRIPTION:
URL:https://tovarosi.hu/event/nyolcadik-evfolyamosok-irasbeli-felvetelije/
CATEGORIES:Best,top
END:VEVENT
BEGIN:VEVENT
DTSTART;TZID=UTC:20260202T170000
DTEND;TZID=UTC:20260202T180000
DTSTAMP:20260423T181820
CREATED:20250912T100726Z
LAST-MODIFIED:20250912T100726Z
UID:2369-1770051600-1770055200@tovarosi.hu
SUMMARY:Felsős szülői értekezlet
DESCRIPTION:
URL:https://tovarosi.hu/event/felsos-szuloi-ertekezlet-3/
CATEGORIES:Best,top
END:VEVENT
BEGIN:VEVENT
DTSTART;TZID=UTC:20260203T170000
DTEND;TZID=UTC:20260203T180000
DTSTAMP:20260423T181820
CREATED:20250912T100811Z
LAST-MODIFIED:20250912T100811Z
UID:2371-1770138000-1770141600@tovarosi.hu
SUMMARY:Alsós szülői értekezlet
DESCRIPTION:
URL:https://tovarosi.hu/event/alsos-szuloi-ertekezlet-3/
END:VEVENT
BEGIN:VEVENT
DTSTART;TZID=UTC:20260316T163000
DTEND;TZID=UTC:20260316T173000
DTSTAMP:20260423T181820
CREATED:20250912T101217Z
LAST-MODIFIED:20250912T101217Z
UID:2379-1773678600-1773682200@tovarosi.hu
SUMMARY:Fogadóóra alsó-felső
DESCRIPTION:
URL:https://tovarosi.hu/event/fogadoora-also-felso-2/
END:VEVENT
BEGIN:VEVENT
DTSTART;VALUE=DATE:20260402
DTEND;VALUE=DATE:20260413
DTSTAMP:20260423T181820
CREATED:20250912T100306Z
LAST-MODIFIED:20250912T100306Z
UID:2363-1775088000-1776038399@tovarosi.hu
SUMMARY:Tavaszi szünet
DESCRIPTION:
URL:https://tovarosi.hu/event/tavaszi-szunet/
CATEGORIES:Best,top
END:VEVENT
BEGIN:VEVENT
DTSTART;TZID=UTC:20260413T163000
DTEND;TZID=UTC:20260413T173000
DTSTAMP:20260423T181820
CREATED:20250912T101304Z
LAST-MODIFIED:20250912T102649Z
UID:2381-1776097800-1776101400@tovarosi.hu
SUMMARY:Bukásra álló tanulók szüleinek behívása
DESCRIPTION:
URL:https://tovarosi.hu/event/bkasra-allo-tanulok-szuleinek-behivasa/
CATEGORIES:Best,top
END:VEVENT
BEGIN:VEVENT
DTSTART;TZID=UTC:20260423T080000
DTEND;TZID=UTC:20260424T210000
DTSTAMP:20260423T181820
CREATED:20250912T101948Z
LAST-MODIFIED:20250912T101948Z
UID:2397-1776931200-1777064400@tovarosi.hu
SUMMARY:Beiratkozás
DESCRIPTION:
URL:https://tovarosi.hu/event/beiratkozas-2/
CATEGORIES:Best,top
END:VEVENT
BEGIN:VEVENT
DTSTART;TZID=UTC:20260504T170000
DTEND;TZID=UTC:20260504T180000
DTSTAMP:20260423T181820
CREATED:20250912T100925Z
LAST-MODIFIED:20250912T100925Z
UID:2373-1777914000-1777917600@tovarosi.hu
SUMMARY:Felsős szülői értekezlet
DESCRIPTION:
URL:https://tovarosi.hu/event/felsos-szuloi-ertekezlet-4/
END:VEVENT
BEGIN:VEVENT
DTSTART;TZID=UTC:20260505T170000
DTEND;TZID=UTC:20260505T180000
DTSTAMP:20260423T181820
CREATED:20250912T101004Z
LAST-MODIFIED:20250912T101004Z
UID:2375-1778000400-1778004000@tovarosi.hu
SUMMARY:Alsós szülői értekezlet
DESCRIPTION:
URL:https://tovarosi.hu/event/alsos-szuloi-ertekezlet-4/
END:VEVENT
BEGIN:VEVENT
DTSTART;TZID=UTC:20260612T180000
DTEND;TZID=UTC:20260612T200000
DTSTAMP:20260423T181820
CREATED:20250912T101403Z
LAST-MODIFIED:20250912T101403Z
UID:2383-1781287200-1781294400@tovarosi.hu
SUMMARY:Kirepítő party
DESCRIPTION:
URL:https://tovarosi.hu/event/kirepito-party/
CATEGORIES:Best,top
END:VEVENT
BEGIN:VEVENT
DTSTART;VALUE=DATE:20260615
DTEND;VALUE=DATE:20260616
DTSTAMP:20260423T181820
CREATED:20250912T101435Z
LAST-MODIFIED:20250912T101435Z
UID:2385-1781481600-1781567999@tovarosi.hu
SUMMARY:DÖK nap\, közlekedésbiztonsági nap
DESCRIPTION:
URL:https://tovarosi.hu/event/dok-nap-kozlekedesbiztonsagi-nap/
CATEGORIES:Best,top
END:VEVENT
BEGIN:VEVENT
DTSTART;VALUE=DATE:20260618
DTEND;VALUE=DATE:20260619
DTSTAMP:20260423T181820
CREATED:20250912T101510Z
LAST-MODIFIED:20250912T101510Z
UID:2387-1781740800-1781827199@tovarosi.hu
SUMMARY:Tanítás nélküli munkanap
DESCRIPTION:
URL:https://tovarosi.hu/event/tanitas-nelkuli-munkanap/
CATEGORIES:Best,top
END:VEVENT
BEGIN:VEVENT
DTSTART;TZID=UTC:20260619T173000
DTEND;TZID=UTC:20260619T180000
DTSTAMP:20260423T181820
CREATED:20250912T101544Z
LAST-MODIFIED:20250912T101544Z
UID:2389-1781890200-1781892000@tovarosi.hu
SUMMARY:Ballagás
DESCRIPTION:
URL:https://tovarosi.hu/event/ballagas-2/
END:VEVENT
BEGIN:VEVENT
DTSTART;TZID=UTC:20260625T170000
DTEND;TZID=UTC:20260625T180000
DTSTAMP:20260423T181820
CREATED:20250912T101646Z
LAST-MODIFIED:20250912T101646Z
UID:2391-1782406800-1782410400@tovarosi.hu
SUMMARY:Évzáró\, bizonyítványosztás
DESCRIPTION:
URL:https://tovarosi.hu/event/evzaro-bizonyitvanyosztas/
CATEGORIES:Best,top
END:VEVENT
END:VCALENDAR