BEGIN:VCALENDAR
VERSION:2.0
PRODID:-//Tóvárosi Általános Iskola - ECPv6.14.2//NONSGML v1.0//EN
CALSCALE:GREGORIAN
METHOD:PUBLISH
X-WR-CALNAME:Tóvárosi Általános Iskola
X-ORIGINAL-URL:https://tovarosi.hu
X-WR-CALDESC:Events for Tóvárosi Általános Iskola
REFRESH-INTERVAL;VALUE=DURATION:PT1H
X-Robots-Tag:noindex
X-PUBLISHED-TTL:PT1H
BEGIN:VTIMEZONE
TZID:UTC
BEGIN:STANDARD
TZOFFSETFROM:+0000
TZOFFSETTO:+0000
TZNAME:UTC
DTSTART:20250101T000000
END:STANDARD
END:VTIMEZONE
BEGIN:VTIMEZONE
TZID:Europe/Helsinki
BEGIN:DAYLIGHT
TZOFFSETFROM:+0200
TZOFFSETTO:+0300
TZNAME:EEST
DTSTART:20250330T010000
END:DAYLIGHT
BEGIN:STANDARD
TZOFFSETFROM:+0300
TZOFFSETTO:+0200
TZNAME:EET
DTSTART:20251026T010000
END:STANDARD
END:VTIMEZONE
BEGIN:VEVENT
DTSTART;VALUE=DATE:20251113
DTEND;VALUE=DATE:20251114
DTSTAMP:20260421T210603
CREATED:20250912T102538Z
LAST-MODIFIED:20250912T102538Z
UID:2411-1762992000-1763078399@tovarosi.hu
SUMMARY:Játékos idegennyelvi vetélkedő
DESCRIPTION:
URL:https://tovarosi.hu/event/jatekos-idegennyelvi-vetelkedo/
CATEGORIES:Best,top
END:VEVENT
BEGIN:VEVENT
DTSTART;TZID=UTC:20251112T080000
DTEND;TZID=UTC:20251112T100000
DTSTAMP:20260421T210603
CREATED:20250912T101836Z
LAST-MODIFIED:20250912T101836Z
UID:2395-1762934400-1762941600@tovarosi.hu
SUMMARY:Nyílt tanítási nap (első két óra)
DESCRIPTION:
URL:https://tovarosi.hu/event/nyilt-tanitasi-nap-elso-ket-ora-2/
CATEGORIES:Best,top
END:VEVENT
BEGIN:VEVENT
DTSTART;TZID=UTC:20251111T080000
DTEND;TZID=UTC:20251111T100000
DTSTAMP:20260421T210603
CREATED:20250912T101758Z
LAST-MODIFIED:20250912T101758Z
UID:2393-1762848000-1762855200@tovarosi.hu
SUMMARY:Nyílt tanítási nap (első két óra)
DESCRIPTION:
URL:https://tovarosi.hu/event/nyilt-tanitasi-nap-elso-ket-ora/
CATEGORIES:Best,top
END:VEVENT
BEGIN:VEVENT
DTSTART;VALUE=DATE:20251107
DTEND;VALUE=DATE:20251108
DTSTAMP:20260421T210603
CREATED:20250912T102446Z
LAST-MODIFIED:20251017T052847Z
UID:2409-1762473600-1762559999@tovarosi.hu
SUMMARY:Projekt felsősöknek – Halloween
DESCRIPTION:
URL:https://tovarosi.hu/event/projekt-felsosoknek-halloween/
CATEGORIES:Best,top
END:VEVENT
BEGIN:VEVENT
DTSTART;VALUE=DATE:20251023
DTEND;VALUE=DATE:20251103
DTSTAMP:20260421T210603
CREATED:20250912T095955Z
LAST-MODIFIED:20250912T095955Z
UID:2358-1761177600-1762127999@tovarosi.hu
SUMMARY:Őszi szünet
DESCRIPTION:
URL:https://tovarosi.hu/event/oszi-szunet/
CATEGORIES:Best,top
END:VEVENT
BEGIN:VEVENT
DTSTART;VALUE=DATE:20251018
DTEND;VALUE=DATE:20251019
DTSTAMP:20260421T210603
CREATED:20250912T102402Z
LAST-MODIFIED:20250912T102402Z
UID:2407-1760745600-1760831999@tovarosi.hu
SUMMARY:Egészségnap
DESCRIPTION:
URL:https://tovarosi.hu/event/egeszsegnap/
CATEGORIES:Best,top
END:VEVENT
BEGIN:VEVENT
DTSTART;VALUE=DATE:20251015
DTEND;VALUE=DATE:20251018
DTSTAMP:20260421T210603
CREATED:20250912T102203Z
LAST-MODIFIED:20250912T102203Z
UID:2401-1760486400-1760745599@tovarosi.hu
SUMMARY:Papírgyűjtés
DESCRIPTION:
URL:https://tovarosi.hu/event/papirgyujtes/
CATEGORIES:Best,top
END:VEVENT
BEGIN:VEVENT
DTSTART;VALUE=DATE:20250926
DTEND;VALUE=DATE:20250927
DTSTAMP:20260421T210603
CREATED:20250912T102319Z
LAST-MODIFIED:20250912T102319Z
UID:2405-1758844800-1758931199@tovarosi.hu
SUMMARY:Osztálykirándulások
DESCRIPTION:
URL:https://tovarosi.hu/event/osztalykirandulasok/
CATEGORIES:Best,top
END:VEVENT
BEGIN:VEVENT
DTSTART;TZID=UTC:20250925T160000
DTEND;TZID=UTC:20250925T190000
DTSTAMP:20260421T210603
CREATED:20250908T134744Z
LAST-MODIFIED:20250908T134744Z
UID:2337-1758816000-1758826800@tovarosi.hu
SUMMARY:Ötödikes avató
DESCRIPTION:
URL:https://tovarosi.hu/event/otodikes-avato/
CATEGORIES:Best,top
END:VEVENT
BEGIN:VEVENT
DTSTART;TZID=UTC:20250909T170000
DTEND;TZID=UTC:20250909T180000
DTSTAMP:20260421T210603
CREATED:20250908T134643Z
LAST-MODIFIED:20250908T134801Z
UID:2335-1757437200-1757440800@tovarosi.hu
SUMMARY:Alsós szülői értekezlet
DESCRIPTION:
URL:https://tovarosi.hu/event/alsos-szuloi-ertekezlet-2/
CATEGORIES:Best,top
END:VEVENT
BEGIN:VEVENT
DTSTART;TZID=UTC:20250908T170000
DTEND;TZID=UTC:20250908T180000
DTSTAMP:20260421T210603
CREATED:20250908T134554Z
LAST-MODIFIED:20250908T134554Z
UID:2333-1757350800-1757354400@tovarosi.hu
SUMMARY:Felsős szülői értekezlet
DESCRIPTION:
URL:https://tovarosi.hu/event/felsos-szuloi-ertekezlet-2/
CATEGORIES:Best,top
END:VEVENT
BEGIN:VEVENT
DTSTART;TZID=UTC:20250901T080000
DTEND;TZID=UTC:20250901T170000
DTSTAMP:20260421T210603
CREATED:20250828T083625Z
LAST-MODIFIED:20250828T083625Z
UID:2311-1756713600-1756746000@tovarosi.hu
SUMMARY:Első tanítási nap
DESCRIPTION:Az első és az ötödik évfolyamnak ünnepélyes tanévnyitó az iskola előtti téren. (ünneplő ruha kötelező) \nA többi évfolyamnak tanévnyitó a hangoson keresztül (nekik nem kell ünneplő ruha)
URL:https://tovarosi.hu/event/elso-tanitasi-nap/
CATEGORIES:Best,top
END:VEVENT
BEGIN:VEVENT
DTSTART;TZID=UTC:20250825T090000
DTEND;TZID=UTC:20251029T130000
DTSTAMP:20260421T210603
CREATED:20250627T070059Z
LAST-MODIFIED:20250627T070059Z
UID:2270-1756112400-1761742800@tovarosi.hu
SUMMARY:Ügyleti nap 9:00 - 13:00
DESCRIPTION:
URL:https://tovarosi.hu/event/ugyleti-nap-900-1300-5/
CATEGORIES:Best,top
END:VEVENT
BEGIN:VEVENT
DTSTART;TZID=UTC:20250819T090000
DTEND;TZID=UTC:20250819T130000
DTSTAMP:20260421T210603
CREATED:20250627T065950Z
LAST-MODIFIED:20250627T065950Z
UID:2268-1755594000-1755608400@tovarosi.hu
SUMMARY:Ügyleti nap 9:00 - 13:00
DESCRIPTION:
URL:https://tovarosi.hu/event/ugyleti-nap-900-1300-4/
CATEGORIES:Best,top
END:VEVENT
BEGIN:VEVENT
DTSTART;TZID=UTC:20250806T090000
DTEND;TZID=UTC:20250806T130000
DTSTAMP:20260421T210603
CREATED:20250627T065900Z
LAST-MODIFIED:20250627T065900Z
UID:2266-1754470800-1754485200@tovarosi.hu
SUMMARY:Ügyleti nap 9:00 - 13:00
DESCRIPTION:
URL:https://tovarosi.hu/event/ugyleti-nap-900-1300-3/
CATEGORIES:Best,top
END:VEVENT
BEGIN:VEVENT
DTSTART;TZID=UTC:20250723T090000
DTEND;TZID=UTC:20250723T130000
DTSTAMP:20260421T210603
CREATED:20250627T065820Z
LAST-MODIFIED:20250627T065820Z
UID:2264-1753261200-1753275600@tovarosi.hu
SUMMARY:Ügyleti nap 9:00 - 13:00
DESCRIPTION:
URL:https://tovarosi.hu/event/ugyleti-nap-900-1300-2/
CATEGORIES:Best,top
END:VEVENT
BEGIN:VEVENT
DTSTART;TZID=UTC:20250709T090000
DTEND;TZID=UTC:20250709T130000
DTSTAMP:20260421T210603
CREATED:20250627T065744Z
LAST-MODIFIED:20250627T065744Z
UID:2262-1752051600-1752066000@tovarosi.hu
SUMMARY:Ügyleti nap 9:00 - 13:00
DESCRIPTION:
URL:https://tovarosi.hu/event/ugyleti-nap-900-1300/
CATEGORIES:Best,top
END:VEVENT
BEGIN:VEVENT
DTSTART;TZID=UTC:20250630T090000
DTEND;TZID=UTC:20250630T130000
DTSTAMP:20260421T210603
CREATED:20250627T065558Z
LAST-MODIFIED:20250627T065558Z
UID:2260-1751274000-1751288400@tovarosi.hu
SUMMARY:Ügyeleti nap 9:00 - 13:00
DESCRIPTION:
URL:https://tovarosi.hu/event/ugyeleti-nap-900-1300/
CATEGORIES:Best,top
END:VEVENT
BEGIN:VEVENT
DTSTART;TZID=UTC:20250626T170000
DTEND;TZID=UTC:20250626T190000
DTSTAMP:20260421T210603
CREATED:20241103T145303Z
LAST-MODIFIED:20241103T145850Z
UID:1322-1750957200-1750964400@tovarosi.hu
SUMMARY:Évzáró\, bizonyítványosztás
DESCRIPTION:Évzáró\, bizonyítványosztás
URL:https://tovarosi.hu/event/farsang/
LOCATION:Iskola\, Iskola tér 1.\, Székefehérvár\, Fejér\, 8000\, Hungary
CATEGORIES:Best,top
ORGANIZER;CN="Iskola":MAILTO:tovarosi@tovarosi.hu
END:VEVENT
BEGIN:VEVENT
DTSTART;TZID=UTC:20250624T080000
DTEND;TZID=UTC:20250624T100000
DTSTAMP:20260421T210603
CREATED:20241103T145202Z
LAST-MODIFIED:20241103T145202Z
UID:1188-1750752000-1750759200@tovarosi.hu
SUMMARY:Nyolcadikosok bizonyítványának átadása
DESCRIPTION:Nyolcadikosok bizonyítványának átadása
URL:https://tovarosi.hu/event/bizonyitvany-atadas/
LOCATION:Iskola\, Iskola tér 1.\, Székefehérvár\, Fejér\, 8000\, Hungary
CATEGORIES:Best,top
ORGANIZER;CN="Iskola":MAILTO:tovarosi@tovarosi.hu
END:VEVENT
BEGIN:VEVENT
DTSTART;TZID=UTC:20250620T173000
DTEND;TZID=UTC:20250620T190000
DTSTAMP:20260421T210603
CREATED:20241103T145048Z
LAST-MODIFIED:20241103T145048Z
UID:1187-1750440600-1750446000@tovarosi.hu
SUMMARY:Ballagás
DESCRIPTION:Ballagás
URL:https://tovarosi.hu/event/ballagas/
LOCATION:Iskola\, Iskola tér 1.\, Székefehérvár\, Fejér\, 8000\, Hungary
CATEGORIES:Best,top
ORGANIZER;CN="Iskola":MAILTO:tovarosi@tovarosi.hu
END:VEVENT
BEGIN:VEVENT
DTSTART;VALUE=DATE:20250619
DTEND;VALUE=DATE:20250620
DTSTAMP:20260421T210603
CREATED:20241103T144947Z
LAST-MODIFIED:20241103T144947Z
UID:1186-1750291200-1750377599@tovarosi.hu
SUMMARY:Sportnap
DESCRIPTION:Sportnap
URL:https://tovarosi.hu/event/sportnap/
LOCATION:Iskola\, Iskola tér 1.\, Székefehérvár\, Fejér\, 8000\, Hungary
CATEGORIES:Best,top
ORGANIZER;CN="Iskola":MAILTO:tovarosi@tovarosi.hu
END:VEVENT
BEGIN:VEVENT
DTSTART;VALUE=DATE:20250616
DTEND;VALUE=DATE:20250619
DTSTAMP:20260421T210603
CREATED:20241103T144744Z
LAST-MODIFIED:20241103T144744Z
UID:1184-1750032000-1750291199@tovarosi.hu
SUMMARY:Tanév végi erdei iskolák\, kirándulások
DESCRIPTION:Tanév végi erdei iskolák\, kirándulások
URL:https://tovarosi.hu/event/kirandulas-erdei-iskola/
CATEGORIES:Best,top
END:VEVENT
BEGIN:VEVENT
DTSTART;TZID=UTC:20250613T180000
DTEND;TZID=UTC:20250613T200000
DTSTAMP:20260421T210603
CREATED:20241103T144858Z
LAST-MODIFIED:20241103T144858Z
UID:1185-1749837600-1749844800@tovarosi.hu
SUMMARY:Kirepítő bál
DESCRIPTION:Kirepítő bál
URL:https://tovarosi.hu/event/kirepito-bal/
LOCATION:Iskola\, Iskola tér 1.\, Székefehérvár\, Fejér\, 8000\, Hungary
CATEGORIES:Best,top
ORGANIZER;CN="Iskola":MAILTO:tovarosi@tovarosi.hu
END:VEVENT
BEGIN:VEVENT
DTSTART;TZID=Europe/Helsinki:20250530T163000
DTEND;TZID=Europe/Helsinki:20250530T173000
DTSTAMP:20260421T210603
CREATED:20250516T105236Z
LAST-MODIFIED:20250516T105236Z
UID:2180-1748622600-1748626200@tovarosi.hu
SUMMARY:Kórusbemutató
DESCRIPTION:
URL:https://tovarosi.hu/event/korusbemutato/
CATEGORIES:Best
END:VEVENT
BEGIN:VEVENT
DTSTART;VALUE=DATE:20250514
DTEND;VALUE=DATE:20250517
DTSTAMP:20260421T210603
CREATED:20250325T084753Z
LAST-MODIFIED:20250325T084753Z
UID:1822-1747180800-1747439999@tovarosi.hu
SUMMARY:Papírgyűjtés 2025 tavasz
DESCRIPTION:Papírgyűjtés 2025 tavasz
URL:https://tovarosi.hu/event/papirgyujtes-2025-tavasz/
END:VEVENT
BEGIN:VEVENT
DTSTART;TZID=UTC:20250512T170000
DTEND;TZID=UTC:20250512T190000
DTSTAMP:20260421T210603
CREATED:20241103T144032Z
LAST-MODIFIED:20250428T134426Z
UID:1181-1747069200-1747076400@tovarosi.hu
SUMMARY:Felsős szülői
DESCRIPTION:Felsős szülői értekezlet
URL:https://tovarosi.hu/event/felsos-szuloi-2025-2/
LOCATION:Iskola\, Iskola tér 1.\, Székefehérvár\, Fejér\, 8000\, Hungary
CATEGORIES:Best,top
ORGANIZER;CN="Iskola":MAILTO:tovarosi@tovarosi.hu
END:VEVENT
BEGIN:VEVENT
DTSTART;TZID=UTC:20250506T170000
DTEND;TZID=UTC:20250506T190000
DTSTAMP:20260421T210603
CREATED:20241103T144144Z
LAST-MODIFIED:20241103T144144Z
UID:1182-1746550800-1746558000@tovarosi.hu
SUMMARY:Alsós szülői értekezlet
DESCRIPTION:Alsós szülői értekezlet
URL:https://tovarosi.hu/event/alsos-szuloi-2025-2/
LOCATION:Iskola\, Iskola tér 1.\, Székefehérvár\, Fejér\, 8000\, Hungary
CATEGORIES:Best,top
ORGANIZER;CN="Iskola":MAILTO:tovarosi@tovarosi.hu
END:VEVENT
BEGIN:VEVENT
DTSTART;VALUE=DATE:20250416
DTEND;VALUE=DATE:20250429
DTSTAMP:20260421T210603
CREATED:20240902T211831Z
LAST-MODIFIED:20240902T211831Z
UID:1020-1744761600-1745884799@tovarosi.hu
SUMMARY:Tavaszi szünet
DESCRIPTION:Tavaszi szünet
URL:https://tovarosi.hu/event/tavaszi-szunet-2/
LOCATION:Iskola\, Iskola tér 1.\, Székefehérvár\, Fejér\, 8000\, Hungary
CATEGORIES:Best,top
ORGANIZER;CN="Iskola":MAILTO:tovarosi@tovarosi.hu
END:VEVENT
BEGIN:VEVENT
DTSTART;VALUE=DATE:20250410
DTEND;VALUE=DATE:20250412
DTSTAMP:20260421T210603
CREATED:20241103T152408Z
LAST-MODIFIED:20241103T152408Z
UID:1360-1744243200-1744415999@tovarosi.hu
SUMMARY:Beiratkozás
DESCRIPTION:Beiratkozás a Tóvárosi Általános Iskolába
URL:https://tovarosi.hu/event/beiratkozas/
LOCATION:Iskola\, Iskola tér 1.\, Székefehérvár\, Fejér\, 8000\, Hungary
CATEGORIES:Best,top
ORGANIZER;CN="Iskola":MAILTO:tovarosi@tovarosi.hu
END:VEVENT
END:VCALENDAR