BEGIN:VCALENDAR
VERSION:2.0
PRODID:-//Tóvárosi Általános Iskola - ECPv6.14.2//NONSGML v1.0//EN
CALSCALE:GREGORIAN
METHOD:PUBLISH
X-WR-CALNAME:Tóvárosi Általános Iskola
X-ORIGINAL-URL:https://tovarosi.hu
X-WR-CALDESC:Events for Tóvárosi Általános Iskola
REFRESH-INTERVAL;VALUE=DURATION:PT1H
X-Robots-Tag:noindex
X-PUBLISHED-TTL:PT1H
BEGIN:VTIMEZONE
TZID:UTC
BEGIN:STANDARD
TZOFFSETFROM:+0000
TZOFFSETTO:+0000
TZNAME:UTC
DTSTART:20240101T000000
END:STANDARD
END:VTIMEZONE
BEGIN:VTIMEZONE
TZID:Europe/Helsinki
BEGIN:DAYLIGHT
TZOFFSETFROM:+0200
TZOFFSETTO:+0300
TZNAME:EEST
DTSTART:20250330T010000
END:DAYLIGHT
BEGIN:STANDARD
TZOFFSETFROM:+0300
TZOFFSETTO:+0200
TZNAME:EET
DTSTART:20251026T010000
END:STANDARD
END:VTIMEZONE
BEGIN:VEVENT
DTSTART;TZID=UTC:20250620T173000
DTEND;TZID=UTC:20250620T190000
DTSTAMP:20260422T001015
CREATED:20241103T145048Z
LAST-MODIFIED:20241103T145048Z
UID:1187-1750440600-1750446000@tovarosi.hu
SUMMARY:Ballagás
DESCRIPTION:Ballagás
URL:https://tovarosi.hu/event/ballagas/
LOCATION:Iskola\, Iskola tér 1.\, Székefehérvár\, Fejér\, 8000\, Hungary
CATEGORIES:Best,top
ORGANIZER;CN="Iskola":MAILTO:tovarosi@tovarosi.hu
END:VEVENT
BEGIN:VEVENT
DTSTART;VALUE=DATE:20250619
DTEND;VALUE=DATE:20250620
DTSTAMP:20260422T001015
CREATED:20241103T144947Z
LAST-MODIFIED:20241103T144947Z
UID:1186-1750291200-1750377599@tovarosi.hu
SUMMARY:Sportnap
DESCRIPTION:Sportnap
URL:https://tovarosi.hu/event/sportnap/
LOCATION:Iskola\, Iskola tér 1.\, Székefehérvár\, Fejér\, 8000\, Hungary
CATEGORIES:Best,top
ORGANIZER;CN="Iskola":MAILTO:tovarosi@tovarosi.hu
END:VEVENT
BEGIN:VEVENT
DTSTART;VALUE=DATE:20250616
DTEND;VALUE=DATE:20250619
DTSTAMP:20260422T001015
CREATED:20241103T144744Z
LAST-MODIFIED:20241103T144744Z
UID:1184-1750032000-1750291199@tovarosi.hu
SUMMARY:Tanév végi erdei iskolák\, kirándulások
DESCRIPTION:Tanév végi erdei iskolák\, kirándulások
URL:https://tovarosi.hu/event/kirandulas-erdei-iskola/
CATEGORIES:Best,top
END:VEVENT
BEGIN:VEVENT
DTSTART;TZID=UTC:20250613T180000
DTEND;TZID=UTC:20250613T200000
DTSTAMP:20260422T001015
CREATED:20241103T144858Z
LAST-MODIFIED:20241103T144858Z
UID:1185-1749837600-1749844800@tovarosi.hu
SUMMARY:Kirepítő bál
DESCRIPTION:Kirepítő bál
URL:https://tovarosi.hu/event/kirepito-bal/
LOCATION:Iskola\, Iskola tér 1.\, Székefehérvár\, Fejér\, 8000\, Hungary
CATEGORIES:Best,top
ORGANIZER;CN="Iskola":MAILTO:tovarosi@tovarosi.hu
END:VEVENT
BEGIN:VEVENT
DTSTART;TZID=Europe/Helsinki:20250530T163000
DTEND;TZID=Europe/Helsinki:20250530T173000
DTSTAMP:20260422T001015
CREATED:20250516T105236Z
LAST-MODIFIED:20250516T105236Z
UID:2180-1748622600-1748626200@tovarosi.hu
SUMMARY:Kórusbemutató
DESCRIPTION:
URL:https://tovarosi.hu/event/korusbemutato/
CATEGORIES:Best
END:VEVENT
BEGIN:VEVENT
DTSTART;VALUE=DATE:20250514
DTEND;VALUE=DATE:20250517
DTSTAMP:20260422T001015
CREATED:20250325T084753Z
LAST-MODIFIED:20250325T084753Z
UID:1822-1747180800-1747439999@tovarosi.hu
SUMMARY:Papírgyűjtés 2025 tavasz
DESCRIPTION:Papírgyűjtés 2025 tavasz
URL:https://tovarosi.hu/event/papirgyujtes-2025-tavasz/
END:VEVENT
BEGIN:VEVENT
DTSTART;TZID=UTC:20250512T170000
DTEND;TZID=UTC:20250512T190000
DTSTAMP:20260422T001015
CREATED:20241103T144032Z
LAST-MODIFIED:20250428T134426Z
UID:1181-1747069200-1747076400@tovarosi.hu
SUMMARY:Felsős szülői
DESCRIPTION:Felsős szülői értekezlet
URL:https://tovarosi.hu/event/felsos-szuloi-2025-2/
LOCATION:Iskola\, Iskola tér 1.\, Székefehérvár\, Fejér\, 8000\, Hungary
CATEGORIES:Best,top
ORGANIZER;CN="Iskola":MAILTO:tovarosi@tovarosi.hu
END:VEVENT
BEGIN:VEVENT
DTSTART;TZID=UTC:20250506T170000
DTEND;TZID=UTC:20250506T190000
DTSTAMP:20260422T001015
CREATED:20241103T144144Z
LAST-MODIFIED:20241103T144144Z
UID:1182-1746550800-1746558000@tovarosi.hu
SUMMARY:Alsós szülői értekezlet
DESCRIPTION:Alsós szülői értekezlet
URL:https://tovarosi.hu/event/alsos-szuloi-2025-2/
LOCATION:Iskola\, Iskola tér 1.\, Székefehérvár\, Fejér\, 8000\, Hungary
CATEGORIES:Best,top
ORGANIZER;CN="Iskola":MAILTO:tovarosi@tovarosi.hu
END:VEVENT
BEGIN:VEVENT
DTSTART;VALUE=DATE:20250416
DTEND;VALUE=DATE:20250429
DTSTAMP:20260422T001015
CREATED:20240902T211831Z
LAST-MODIFIED:20240902T211831Z
UID:1020-1744761600-1745884799@tovarosi.hu
SUMMARY:Tavaszi szünet
DESCRIPTION:Tavaszi szünet
URL:https://tovarosi.hu/event/tavaszi-szunet-2/
LOCATION:Iskola\, Iskola tér 1.\, Székefehérvár\, Fejér\, 8000\, Hungary
CATEGORIES:Best,top
ORGANIZER;CN="Iskola":MAILTO:tovarosi@tovarosi.hu
END:VEVENT
BEGIN:VEVENT
DTSTART;VALUE=DATE:20250410
DTEND;VALUE=DATE:20250412
DTSTAMP:20260422T001015
CREATED:20241103T152408Z
LAST-MODIFIED:20241103T152408Z
UID:1360-1744243200-1744415999@tovarosi.hu
SUMMARY:Beiratkozás
DESCRIPTION:Beiratkozás a Tóvárosi Általános Iskolába
URL:https://tovarosi.hu/event/beiratkozas/
LOCATION:Iskola\, Iskola tér 1.\, Székefehérvár\, Fejér\, 8000\, Hungary
CATEGORIES:Best,top
ORGANIZER;CN="Iskola":MAILTO:tovarosi@tovarosi.hu
END:VEVENT
BEGIN:VEVENT
DTSTART;TZID=UTC:20250407T163000
DTEND;TZID=UTC:20250407T180000
DTSTAMP:20260422T001015
CREATED:20241103T144619Z
LAST-MODIFIED:20241103T144619Z
UID:1309-1744043400-1744048800@tovarosi.hu
SUMMARY:Fogadóórák 2025-2
DESCRIPTION:16.30-tól bukásra álló tanulók szüleinek behívása
URL:https://tovarosi.hu/event/fogadoorak-2025-2/
LOCATION:Iskola\, Iskola tér 1.\, Székefehérvár\, Fejér\, 8000\, Hungary
CATEGORIES:Best,top
ORGANIZER;CN="Iskola":MAILTO:tovarosi@tovarosi.hu
END:VEVENT
BEGIN:VEVENT
DTSTART;TZID=UTC:20250407T160000
DTEND;TZID=UTC:20250407T180000
DTSTAMP:20260422T001015
CREATED:20241103T152247Z
LAST-MODIFIED:20250204T065819Z
UID:1359-1744041600-1744048800@tovarosi.hu
SUMMARY:Sulikóstolgató - Játékos foglalkozás
DESCRIPTION:Játékos foglalkozás a tanító nénikkel a tornateremben leendő elsősöknek
URL:https://tovarosi.hu/event/jatekos-foglalkozas-2/
LOCATION:Iskola\, Iskola tér 1.\, Székefehérvár\, Fejér\, 8000\, Hungary
CATEGORIES:Best,top
ORGANIZER;CN="Iskola":MAILTO:tovarosi@tovarosi.hu
END:VEVENT
BEGIN:VEVENT
DTSTART;TZID=UTC:20250325T080000
DTEND;TZID=UTC:20250325T100000
DTSTAMP:20260422T001015
CREATED:20241103T152110Z
LAST-MODIFIED:20250204T065737Z
UID:1358-1742889600-1742896800@tovarosi.hu
SUMMARY:Sulikóstolgató - Nyílt tanítási órák
DESCRIPTION:Nyílt tanítási órák látogatása a leendő elsős gyerekek és szüleik számáraa
URL:https://tovarosi.hu/event/nyilt-orak/
LOCATION:Iskola\, Iskola tér 1.\, Székefehérvár\, Fejér\, 8000\, Hungary
CATEGORIES:Best,top
ORGANIZER;CN="Iskola":MAILTO:tovarosi@tovarosi.hu
END:VEVENT
BEGIN:VEVENT
DTSTART;TZID=UTC:20250317T160000
DTEND;TZID=UTC:20250317T180000
DTSTAMP:20260422T001015
CREATED:20241103T151932Z
LAST-MODIFIED:20250204T065647Z
UID:1357-1742227200-1742234400@tovarosi.hu
SUMMARY:Sulikóstolagtó - Tóvárosi tavaszköszöntő
DESCRIPTION:“Sándor\, József\, Benedek zsákban hozza a meleget”  (Weöres Sándor) tóvárosi tavaszköszöntő a tanítónénikkel a tornateremben
URL:https://tovarosi.hu/event/tovarosi-tavaszkoszonto/
LOCATION:Iskola\, Iskola tér 1.\, Székefehérvár\, Fejér\, 8000\, Hungary
CATEGORIES:Best,top
ORGANIZER;CN="Iskola":MAILTO:tovarosi@tovarosi.hu
END:VEVENT
BEGIN:VEVENT
DTSTART;TZID=UTC:20250303T163000
DTEND;TZID=UTC:20250303T183000
DTSTAMP:20260422T001015
CREATED:20241103T151718Z
LAST-MODIFIED:20250204T065511Z
UID:1356-1741019400-1741026600@tovarosi.hu
SUMMARY:Sulikóstolgató - Játékos foglalkozás az uszodában
DESCRIPTION:Játékos foglalkozás az uszodában leendő elsősöknek
URL:https://tovarosi.hu/event/jatekos-foglalkozas-uszodaban/
LOCATION:Iskola\, Iskola tér 1.\, Székefehérvár\, Fejér\, 8000\, Hungary
CATEGORIES:Best,top
ORGANIZER;CN="Iskola":MAILTO:tovarosi@tovarosi.hu
END:VEVENT
BEGIN:VEVENT
DTSTART;TZID=UTC:20250217T163000
DTEND;TZID=UTC:20250217T180000
DTSTAMP:20260422T001015
CREATED:20241103T144458Z
LAST-MODIFIED:20241103T144458Z
UID:1306-1739809800-1739815200@tovarosi.hu
SUMMARY:Fogadóórák 2025-1
DESCRIPTION:Alsó-felső 16.30-tól
URL:https://tovarosi.hu/event/fogadoorak-2025-1/
LOCATION:Iskola\, Iskola tér 1.\, Székefehérvár\, Fejér\, 8000\, Hungary
CATEGORIES:Best,top
ORGANIZER;CN="Iskola":MAILTO:tovarosi@tovarosi.hu
END:VEVENT
BEGIN:VEVENT
DTSTART;TZID=UTC:20250217T160000
DTEND;TZID=UTC:20250217T180000
DTSTAMP:20260422T001015
CREATED:20241103T151532Z
LAST-MODIFIED:20250204T065410Z
UID:1355-1739808000-1739815200@tovarosi.hu
SUMMARY:Sulikóstolgató - Játékos mozgás a tornateremben
DESCRIPTION:Játékos mozgás a tornateremben leendő elsősöknek
URL:https://tovarosi.hu/event/jatekos-mozgas/
LOCATION:Iskola\, Iskola tér 1.\, Székefehérvár\, Fejér\, 8000\, Hungary
CATEGORIES:Best,top
ORGANIZER;CN="Iskola":MAILTO:tovarosi@tovarosi.hu
END:VEVENT
BEGIN:VEVENT
DTSTART;TZID=UTC:20250207T160000
DTEND;TZID=UTC:20250207T200000
DTSTAMP:20260422T001015
CREATED:20241103T150001Z
LAST-MODIFIED:20241103T150001Z
UID:1328-1738944000-1738958400@tovarosi.hu
SUMMARY:Felsős farsang
DESCRIPTION:Felsős farsang
URL:https://tovarosi.hu/event/farsang-2/
LOCATION:Iskola\, Iskola tér 1.\, Székefehérvár\, Fejér\, 8000\, Hungary
CATEGORIES:Best,top
ORGANIZER;CN="Iskola":MAILTO:tovarosi@tovarosi.hu
END:VEVENT
BEGIN:VEVENT
DTSTART;TZID=UTC:20250203T160000
DTEND;TZID=UTC:20250203T180000
DTSTAMP:20260422T001015
CREATED:20241103T151407Z
LAST-MODIFIED:20241103T151407Z
UID:1354-1738598400-1738605600@tovarosi.hu
SUMMARY:"Kibújás vagy bebújás ? "
DESCRIPTION:“Kibújás vagy bebújás ?” (Weöres Sándor) maci gondok megoldása az ebédlőben a tanítónénikkel
URL:https://tovarosi.hu/event/ovodas-program/
LOCATION:Iskola\, Iskola tér 1.\, Székefehérvár\, Fejér\, 8000\, Hungary
CATEGORIES:Best,top
ORGANIZER;CN="Iskola":MAILTO:tovarosi@tovarosi.hu
END:VEVENT
BEGIN:VEVENT
DTSTART;TZID=UTC:20250128T170000
DTEND;TZID=UTC:20250128T190000
DTSTAMP:20260422T001015
CREATED:20241103T143917Z
LAST-MODIFIED:20241103T143917Z
UID:1180-1738083600-1738090800@tovarosi.hu
SUMMARY:Alsós szülői értekezlet
DESCRIPTION:Alsós szülői értekezlet
URL:https://tovarosi.hu/event/alsos-szuloi-2025/
LOCATION:Iskola\, Iskola tér 1.\, Székefehérvár\, Fejér\, 8000\, Hungary
CATEGORIES:Best,top
ORGANIZER;CN="Iskola":MAILTO:tovarosi@tovarosi.hu
END:VEVENT
BEGIN:VEVENT
DTSTART;TZID=UTC:20250127T170000
DTEND;TZID=UTC:20250127T190000
DTSTAMP:20260422T001015
CREATED:20241103T143754Z
LAST-MODIFIED:20241103T143754Z
UID:1179-1737997200-1738004400@tovarosi.hu
SUMMARY:Felsős szülői értekezlet
DESCRIPTION:Felsős szülői értekezlet
URL:https://tovarosi.hu/event/felsos-szuloi-2025/
LOCATION:Iskola\, Iskola tér 1.\, Székefehérvár\, Fejér\, 8000\, Hungary
CATEGORIES:Best,top
ORGANIZER;CN="Iskola":MAILTO:tovarosi@tovarosi.hu
END:VEVENT
BEGIN:VEVENT
DTSTART;TZID=UTC:20250118T100000
DTEND;TZID=UTC:20250118T140000
DTSTAMP:20260422T001015
CREATED:20241103T145451Z
LAST-MODIFIED:20241103T145451Z
UID:1326-1737194400-1737208800@tovarosi.hu
SUMMARY:Nyolcadikosoknak írásbeli felvételi
DESCRIPTION:2025. 01. 18. szombaton 10.00 órakor kerül sor. \nPótfelvételi: 2025. 01. 28. kedd 14.00 óra
URL:https://tovarosi.hu/event/felveteli-2/
LOCATION:Iskola\, Iskola tér 1.\, Székefehérvár\, Fejér\, 8000\, Hungary
CATEGORIES:Best,top
ORGANIZER;CN="Iskola":MAILTO:tovarosi@tovarosi.hu
END:VEVENT
BEGIN:VEVENT
DTSTART;TZID=UTC:20250118T100000
DTEND;TZID=UTC:20250118T123000
DTSTAMP:20260422T001015
CREATED:20241103T151145Z
LAST-MODIFIED:20241103T151145Z
UID:1353-1737194400-1737203400@tovarosi.hu
SUMMARY:Farsangi forgatag - Ismerkedés az iskolával
DESCRIPTION:Betekintő program – ismerkedés az iskolával (óvodásoknak belépés farsangi szemüvegben)
URL:https://tovarosi.hu/event/farsangi-forgatag-iskolakostolgato/
LOCATION:Iskola\, Iskola tér 1.\, Székefehérvár\, Fejér\, 8000\, Hungary
CATEGORIES:Best,top
ORGANIZER;CN="Iskola":MAILTO:tovarosi@tovarosi.hu
END:VEVENT
BEGIN:VEVENT
DTSTART;VALUE=DATE:20241220
DTEND;VALUE=DATE:20250104
DTSTAMP:20260422T001015
CREATED:20240902T211506Z
LAST-MODIFIED:20241211T201909Z
UID:1017-1734652800-1735948799@tovarosi.hu
SUMMARY:Téli szünet
DESCRIPTION:Téli szünet – Első tanítási nap: 2025 január 6.
URL:https://tovarosi.hu/event/teli-szunet/
LOCATION:Iskola\, Iskola tér 1.\, Székefehérvár\, Fejér\, 8000\, Hungary
CATEGORIES:Best,top
ORGANIZER;CN="Iskola":MAILTO:tovarosi@tovarosi.hu
END:VEVENT
BEGIN:VEVENT
DTSTART;TZID=UTC:20241219T090000
DTEND;TZID=UTC:20241219T103000
DTSTAMP:20260422T001015
CREATED:20241103T145815Z
LAST-MODIFIED:20241103T145815Z
UID:1335-1734598800-1734604200@tovarosi.hu
SUMMARY:Karácsonyi ünnepély a tornateremben
DESCRIPTION:Karácsonyi ünnepély a tornateremben
URL:https://tovarosi.hu/event/karacsonyi-unnepely-2/
LOCATION:Iskola\, Iskola tér 1.\, Székefehérvár\, Fejér\, 8000\, Hungary
CATEGORIES:Best,top
ORGANIZER;CN="Iskola":MAILTO:tovarosi@tovarosi.hu
END:VEVENT
BEGIN:VEVENT
DTSTART;TZID=UTC:20241219T083000
DTEND;TZID=UTC:20241219T110000
DTSTAMP:20260422T001015
CREATED:20241103T150909Z
LAST-MODIFIED:20241103T150909Z
UID:1352-1734597000-1734606000@tovarosi.hu
SUMMARY:Karácsonyi műsor az ovisoknak
DESCRIPTION:Karácsonyi műsor a tornateremben az ovisoknak
URL:https://tovarosi.hu/event/karacsonyi-musor-iskolakostolgato/
LOCATION:Iskola\, Iskola tér 1.\, Székefehérvár\, Fejér\, 8000\, Hungary
CATEGORIES:Best,top
ORGANIZER;CN="Iskola":MAILTO:tovarosi@tovarosi.hu
END:VEVENT
BEGIN:VEVENT
DTSTART;VALUE=DATE:20241216
DTEND;VALUE=DATE:20241218
DTSTAMP:20260422T001015
CREATED:20241103T145712Z
LAST-MODIFIED:20241103T145712Z
UID:1327-1734307200-1734479999@tovarosi.hu
SUMMARY:Karácsonyi vásár
DESCRIPTION:Karácsonyi vásár (kizárólag saját készítésű termékek) érdeklődés szerint 1-8. évfolyam
URL:https://tovarosi.hu/event/karacsonyi-vasar/
LOCATION:Iskola\, Iskola tér 1.\, Székefehérvár\, Fejér\, 8000\, Hungary
CATEGORIES:Best,top
ORGANIZER;CN="Iskola":MAILTO:tovarosi@tovarosi.hu
END:VEVENT
BEGIN:VEVENT
DTSTART;TZID=UTC:20241207T100000
DTEND;TZID=UTC:20241207T140000
DTSTAMP:20260422T001015
CREATED:20241103T150747Z
LAST-MODIFIED:20241103T150747Z
UID:1351-1733565600-1733580000@tovarosi.hu
SUMMARY:Mikulás-napi játékos foglalkozás
DESCRIPTION:Mikulás-napi játékos foglalkozás a tornateremben a testnevelőkkel
URL:https://tovarosi.hu/event/mikulas-nap-iskolakostolgato/
LOCATION:Iskola\, Iskola tér 1.\, Székefehérvár\, Fejér\, 8000\, Hungary
CATEGORIES:Best,top
ORGANIZER;CN="Iskola":MAILTO:tovarosi@tovarosi.hu
END:VEVENT
BEGIN:VEVENT
DTSTART;TZID=UTC:20241125T170000
DTEND;TZID=UTC:20241125T190000
DTSTAMP:20260422T001015
CREATED:20240902T213549Z
LAST-MODIFIED:20240902T213549Z
UID:1031-1732554000-1732561200@tovarosi.hu
SUMMARY:Pályaorientációs nap
DESCRIPTION:Pályaválasztási szülői értekezlet\, pályaorientációs nap/alsósoknak külön program
URL:https://tovarosi.hu/event/palyaorientacios-nap/
LOCATION:Iskola\, Iskola tér 1.\, Székefehérvár\, Fejér\, 8000\, Hungary
CATEGORIES:Best,top
ORGANIZER;CN="Iskola":MAILTO:tovarosi@tovarosi.hu
END:VEVENT
BEGIN:VEVENT
DTSTART;TZID=UTC:20241125T163000
DTEND;TZID=UTC:20241125T173000
DTSTAMP:20260422T001015
CREATED:20241103T144321Z
LAST-MODIFIED:20241103T144321Z
UID:1183-1732552200-1732555800@tovarosi.hu
SUMMARY:Fogadóórák
DESCRIPTION:Alsó-felső 16:00-17:30 között
URL:https://tovarosi.hu/event/fogadoorak-2024-2/
LOCATION:Iskola\, Iskola tér 1.\, Székefehérvár\, Fejér\, 8000\, Hungary
CATEGORIES:Best,top
ORGANIZER;CN="Iskola":MAILTO:tovarosi@tovarosi.hu
END:VEVENT
END:VCALENDAR