BEGIN:VCALENDAR
VERSION:2.0
PRODID:-//Tóvárosi Általános Iskola - ECPv6.14.2//NONSGML v1.0//EN
CALSCALE:GREGORIAN
METHOD:PUBLISH
X-ORIGINAL-URL:https://tovarosi.hu
X-WR-CALDESC:Events for Tóvárosi Általános Iskola
REFRESH-INTERVAL;VALUE=DURATION:PT1H
X-Robots-Tag:noindex
X-PUBLISHED-TTL:PT1H
BEGIN:VTIMEZONE
TZID:UTC
BEGIN:STANDARD
TZOFFSETFROM:+0000
TZOFFSETTO:+0000
TZNAME:UTC
DTSTART:20250101T000000
END:STANDARD
END:VTIMEZONE
BEGIN:VEVENT
DTSTART;VALUE=DATE:20251220
DTEND;VALUE=DATE:20260105
DTSTAMP:20260421T204227
CREATED:20250912T100210Z
LAST-MODIFIED:20250912T100210Z
UID:2361-1766188800-1767571199@tovarosi.hu
SUMMARY:Téli szünet
DESCRIPTION:
URL:https://tovarosi.hu/event/teli-szunet-2/
CATEGORIES:Best,top
END:VEVENT
BEGIN:VEVENT
DTSTART;TZID=UTC:20260124T100000
DTEND;TZID=UTC:20260124T120000
DTSTAMP:20260421T204227
CREATED:20250912T102104Z
LAST-MODIFIED:20250912T102104Z
UID:2399-1769248800-1769256000@tovarosi.hu
SUMMARY:Nyolcadik évfolyamosok írásbeli felvételije
DESCRIPTION:
URL:https://tovarosi.hu/event/nyolcadik-evfolyamosok-irasbeli-felvetelije/
CATEGORIES:Best,top
END:VEVENT
END:VCALENDAR